BEGIN:VCALENDAR
VERSION:2.0
PRODID:-//Auktionshaus Nord - ECPv6.15.11//NONSGML v1.0//EN
CALSCALE:GREGORIAN
METHOD:PUBLISH
X-WR-CALNAME:Auktionshaus Nord
X-ORIGINAL-URL:https://auktionshaus-nord.de
X-WR-CALDESC:Veranstaltungen für Auktionshaus Nord
REFRESH-INTERVAL;VALUE=DURATION:PT1H
X-Robots-Tag:noindex
X-PUBLISHED-TTL:PT1H
BEGIN:VTIMEZONE
TZID:Europe/Berlin
BEGIN:DAYLIGHT
TZOFFSETFROM:+0100
TZOFFSETTO:+0200
TZNAME:CEST
DTSTART:20240331T010000
END:DAYLIGHT
BEGIN:STANDARD
TZOFFSETFROM:+0200
TZOFFSETTO:+0100
TZNAME:CET
DTSTART:20241027T010000
END:STANDARD
BEGIN:DAYLIGHT
TZOFFSETFROM:+0100
TZOFFSETTO:+0200
TZNAME:CEST
DTSTART:20250330T010000
END:DAYLIGHT
BEGIN:STANDARD
TZOFFSETFROM:+0200
TZOFFSETTO:+0100
TZNAME:CET
DTSTART:20251026T010000
END:STANDARD
BEGIN:DAYLIGHT
TZOFFSETFROM:+0100
TZOFFSETTO:+0200
TZNAME:CEST
DTSTART:20260329T010000
END:DAYLIGHT
BEGIN:STANDARD
TZOFFSETFROM:+0200
TZOFFSETTO:+0100
TZNAME:CET
DTSTART:20261025T010000
END:STANDARD
END:VTIMEZONE
BEGIN:VEVENT
DTSTART;VALUE=DATE:20251212
DTEND;VALUE=DATE:20251214
DTSTAMP:20260420T040950
CREATED:20251119T144548Z
LAST-MODIFIED:20251203T141040Z
UID:1040-1765497600-1765670399@auktionshaus-nord.de
SUMMARY:Große Live-Weihnachtsauktion
DESCRIPTION:Am 12.12. und 13.12. wird es eine reine Schmuck\, Uhren und Münzen Auktion geben. \nDer Katalog ist bereits auf verschiedenen Plattformen online: \n> Direkt bei Auktionshaus-Nord\n> Lot-Issimo\n> Drouot.com \n\nDamit Ihre ersteigerten Schätze nicht nur Freude machen\, sondern auch rechtzeitig unterm Weihnachtsbaum liegen könnten\, geben wir Vollgas: Geht Ihre Zahlung spätestens am 17.12. bis 9:00 Uhr bei uns ein\, garantieren wir das Versenden der Ware bis zum 18.12.2025
URL:https://auktionshaus-nord.de/event/grosse-live-weihnachtsauktion/
END:VEVENT
BEGIN:VEVENT
DTSTART;VALUE=DATE:20251025
DTEND;VALUE=DATE:20251027
DTSTAMP:20260420T040950
CREATED:20250930T081857Z
LAST-MODIFIED:20251024T121954Z
UID:934-1761350400-1761523199@auktionshaus-nord.de
SUMMARY:Live-Auktion
DESCRIPTION:Nächste Live-Auktion: 25.-26.10.2025\, jeweils ab 11 Uhr.\n\nVorbesichtigung: 24.10.2025 ab 12 Uhr.\nAuktionshaus Nord\nMecklenburger Weg 44/46\n27578 Bremerhaven \nSamstag\, 25.10.2025 ab 11.00 Uhr \nSchmuck Kat.- Nr. 1000 – 1688\nUhren Kat. – Nr. 2000 – 2166 \nSonntag\, 26.10.2025 ab 11.00 Uhr\nPorzellan: 3000 – 3122\, Münzen: 4000 – 4216\, Asiatika: 5000 – 5086\, Gemälde: 6000 – 6030\, Grafiken: 7000 – 7055\, Militaria: 8000 – 8041\, Glas: 9000 – 9030\, Bücher: 10000 – 10011\, Silber / Versilbertes: 11000 – 11037\, Spielzeug: 12000\, Technik: 13000 – 13002\, Varia: 14000 – 14196\, Teppiche: 16000 – 16016 \n\nLink zur Auktion online:  \nhttps://live.auktionshaus-nord.de/#/catalogue/4 \n 
URL:https://auktionshaus-nord.de/event/live-auktion/
END:VEVENT
BEGIN:VEVENT
DTSTART;VALUE=DATE:20251020
DTEND;VALUE=DATE:20251025
DTSTAMP:20260420T040950
CREATED:20250930T081054Z
LAST-MODIFIED:20250930T081054Z
UID:928-1760918400-1761350399@auktionshaus-nord.de
SUMMARY:Expertentage
DESCRIPTION:Lassen Sie Ihre Objekte unverbindlich und kostenlos begutachten und einschätzen. \nAuktionshaus Nord\nMecklenburger Weg 44/46\n27578 Bremerhaven
URL:https://auktionshaus-nord.de/event/expertentage/
END:VEVENT
END:VCALENDAR